BEGIN:VCALENDAR
VERSION:2.0
PRODID:-//Divers Tavern - ECPv6.15.20//NONSGML v1.0//EN
CALSCALE:GREGORIAN
METHOD:PUBLISH
X-ORIGINAL-URL:https://diverstavern.com.au
X-WR-CALDESC:Events for Divers Tavern
REFRESH-INTERVAL;VALUE=DURATION:PT1H
X-Robots-Tag:noindex
X-PUBLISHED-TTL:PT1H
BEGIN:VTIMEZONE
TZID:Australia/Perth
BEGIN:STANDARD
TZOFFSETFROM:+0800
TZOFFSETTO:+0800
TZNAME:AWST
DTSTART:20220101T000000
END:STANDARD
END:VTIMEZONE
BEGIN:VEVENT
DTSTART;TZID=Australia/Perth:20250322T200000
DTEND;TZID=Australia/Perth:20250322T233000
DTSTAMP:20260425T112205
CREATED:20250119T033929Z
LAST-MODIFIED:20250119T033929Z
UID:10003013-1742673600-1742686200@diverstavern.com.au
SUMMARY:Mick & Mon-March 22nd
DESCRIPTION:Live Music\nRecently returned from their national tour as Stellar Moon & the Dark Knights\, Mick & Mon are ready to deliver a lively performance for you ahead of some big performances in White Claw Beach Bar this season!  \nCome down early for dinner with awesome seafood dishes & a delicious burrata bar offering ahead of the performance. \nWe’ll be keeping the party going in the Tavern over the wet season so keep up to date on what’s on by giving us a like & follow or heading to Facebook .. https://www.facebook.com/Diverstavern
URL:https://diverstavern.com.au/event/mick-mon-march-22nd/
LOCATION:Beach Bar\, 12 Cable Beach Road\, Cable Beach\, WA\, 6726
ATTACH;FMTTYPE=image/jpeg:https://diverstavern.com.au/wp-content/uploads/2024/08/White-Claw-Party.jpg
END:VEVENT
BEGIN:VEVENT
DTSTART;TZID=Australia/Perth:20250315T200000
DTEND;TZID=Australia/Perth:20250315T233000
DTSTAMP:20260425T112205
CREATED:20250119T032832Z
LAST-MODIFIED:20250119T032832Z
UID:10003010-1742068800-1742081400@diverstavern.com.au
SUMMARY:Jake & Pascoe-March 15th
DESCRIPTION:Live Music\nJake & Pascoe\, members of Turbo Dogs are getting in the mood for their upcoming White Claw Beach Bar gigs with a special performance 8pm-late. Check out our Saturday food special and grab a bite to eat ahead of a night of good tunes in good company this Saturday night! !  \nWe’ll be keeping the party going in the Tavern over the wet season so keep up to date on what’s on by giving us a like & follow or heading to Facebook .. https://www.facebook.com/Diverstavern
URL:https://diverstavern.com.au/event/jake-pascoe-march-15th/
LOCATION:Beach Bar\, 12 Cable Beach Road\, Cable Beach\, WA\, 6726
ATTACH;FMTTYPE=image/jpeg:https://diverstavern.com.au/wp-content/uploads/2024/08/White-Claw-Party.jpg
END:VEVENT
BEGIN:VEVENT
DTSTART;TZID=Australia/Perth:20250314T200000
DTEND;TZID=Australia/Perth:20250314T233000
DTSTAMP:20260425T112205
CREATED:20250119T032703Z
LAST-MODIFIED:20250213T111924Z
UID:10003009-1741982400-1741995000@diverstavern.com.au
SUMMARY:TEKNISHAN-March 14th
DESCRIPTION:Live Music\nTEKNISHAN is back from his wet season travels and ready to rock the stage at Divers ahead of some epic nights coming soon in White Claw Beach Bar! \nExpect killer beats & exciting listening from 8pm-late this Friday night. \nBring your crew & light up the dancefloor after Hundred Helmets from 3-6.30pm & a dinner from 5pm. \nWe’ll be keeping the party going in the Tavern over the wet season so keep up to date on what’s on by giving us a like & follow or heading to Facebook .. https://www.facebook.com/Diverstavern
URL:https://diverstavern.com.au/event/teknishan-march-14th/
LOCATION:Beach Bar\, 12 Cable Beach Road\, Cable Beach\, WA\, 6726
ATTACH;FMTTYPE=image/jpeg:https://diverstavern.com.au/wp-content/uploads/2025/01/14.03-Teknishan.jpg
END:VEVENT
BEGIN:VEVENT
DTSTART;TZID=Australia/Perth:20250221T200000
DTEND;TZID=Australia/Perth:20250221T233000
DTSTAMP:20260425T112205
CREATED:20250119T042436Z
LAST-MODIFIED:20250220T115726Z
UID:10003025-1740168000-1740180600@diverstavern.com.au
SUMMARY:Cody and Guest-February 21st
DESCRIPTION:Live Music\nFancy a Friday night boogie? \nHead down for dinner from 5pm ahead of Cody & Guest performing live 8pm-late. \nCheck out what’s on this month at Facebook .. https://www.facebook.com/Diverstavern
URL:https://diverstavern.com.au/event/cody-and-guest-february-21st/
LOCATION:Beach Bar\, 12 Cable Beach Road\, Cable Beach\, WA\, 6726
ATTACH;FMTTYPE=image/jpeg:https://diverstavern.com.au/wp-content/uploads/2025/01/LIVE-MUSIC-21.02.jpg
END:VEVENT
BEGIN:VEVENT
DTSTART;TZID=Australia/Perth:20250207T200000
DTEND;TZID=Australia/Perth:20250207T233000
DTSTAMP:20260425T112205
CREATED:20250119T041339Z
LAST-MODIFIED:20250126T075132Z
UID:10003019-1738958400-1738971000@diverstavern.com.au
SUMMARY:Mick & Mon-February 7th
DESCRIPTION:Live Music\nJoin Mick & Mon fresh off their Southwest Tour! \nThey’ve been away for months & are ready to get back on the Divers Tavern with their fave local crowd! \nPerforming from 8pm\, expect big vocals & covers you know & love! \nWe’ll be keeping the party going in the Tavern over the wet season so keep up to date on what’s on by giving us a like & follow or heading to Facebook .. https://www.facebook.com/Diverstavern
URL:https://diverstavern.com.au/event/mick-mon-february-7th/
LOCATION:Beach Bar\, 12 Cable Beach Road\, Cable Beach\, WA\, 6726
ATTACH;FMTTYPE=image/jpeg:https://diverstavern.com.au/wp-content/uploads/2025/01/Whats-On-7th-Feb.jpg
END:VEVENT
BEGIN:VEVENT
DTSTART;TZID=Australia/Perth:20230730T080000
DTEND;TZID=Australia/Perth:20230730T170000
DTSTAMP:20260425T112205
CREATED:20230504T033900Z
LAST-MODIFIED:20230524T051321Z
UID:10000656-1690704000-1690736400@diverstavern.com.au
SUMMARY:Footy Weekends
DESCRIPTION:Beach Bar is open 12-late every Saturday & Sunday\, with food served 12-8:30 pm and sports Live on the Big Screens ahead of the entertainment. \nWith new TVs up in the bar\, catch AFL & NRL while playing a game of pool & joining the whole crew in Beach Bar! \nYou asked\, we listened\, pop down to enjoy the awesome weather!
URL:https://diverstavern.com.au/event/footy-weekends/2023-07-30/
LOCATION:Beach Bar\, 12 Cable Beach Road\, Cable Beach\, WA\, 6726
ATTACH;FMTTYPE=image/jpeg:https://diverstavern.com.au/wp-content/uploads/2023/05/AFL_footy-weekends.jpg
END:VEVENT
BEGIN:VEVENT
DTSTART;TZID=Australia/Perth:20230729T080000
DTEND;TZID=Australia/Perth:20230729T170000
DTSTAMP:20260425T112205
CREATED:20230504T033900Z
LAST-MODIFIED:20230524T051321Z
UID:10000655-1690617600-1690650000@diverstavern.com.au
SUMMARY:Footy Weekends
DESCRIPTION:Beach Bar is open 12-late every Saturday & Sunday\, with food served 12-8:30 pm and sports Live on the Big Screens ahead of the entertainment. \nWith new TVs up in the bar\, catch AFL & NRL while playing a game of pool & joining the whole crew in Beach Bar! \nYou asked\, we listened\, pop down to enjoy the awesome weather!
URL:https://diverstavern.com.au/event/footy-weekends/2023-07-29/
LOCATION:Beach Bar\, 12 Cable Beach Road\, Cable Beach\, WA\, 6726
ATTACH;FMTTYPE=image/jpeg:https://diverstavern.com.au/wp-content/uploads/2023/05/AFL_footy-weekends.jpg
END:VEVENT
BEGIN:VEVENT
DTSTART;TZID=Australia/Perth:20230723T080000
DTEND;TZID=Australia/Perth:20230723T170000
DTSTAMP:20260425T112205
CREATED:20230504T033900Z
LAST-MODIFIED:20230524T051321Z
UID:10000654-1690099200-1690131600@diverstavern.com.au
SUMMARY:Footy Weekends
DESCRIPTION:Beach Bar is open 12-late every Saturday & Sunday\, with food served 12-8:30 pm and sports Live on the Big Screens ahead of the entertainment. \nWith new TVs up in the bar\, catch AFL & NRL while playing a game of pool & joining the whole crew in Beach Bar! \nYou asked\, we listened\, pop down to enjoy the awesome weather!
URL:https://diverstavern.com.au/event/footy-weekends/2023-07-23/
LOCATION:Beach Bar\, 12 Cable Beach Road\, Cable Beach\, WA\, 6726
ATTACH;FMTTYPE=image/jpeg:https://diverstavern.com.au/wp-content/uploads/2023/05/AFL_footy-weekends.jpg
END:VEVENT
BEGIN:VEVENT
DTSTART;TZID=Australia/Perth:20230722T080000
DTEND;TZID=Australia/Perth:20230722T170000
DTSTAMP:20260425T112205
CREATED:20230504T033900Z
LAST-MODIFIED:20230524T051321Z
UID:10000653-1690012800-1690045200@diverstavern.com.au
SUMMARY:Footy Weekends
DESCRIPTION:Beach Bar is open 12-late every Saturday & Sunday\, with food served 12-8:30 pm and sports Live on the Big Screens ahead of the entertainment. \nWith new TVs up in the bar\, catch AFL & NRL while playing a game of pool & joining the whole crew in Beach Bar! \nYou asked\, we listened\, pop down to enjoy the awesome weather!
URL:https://diverstavern.com.au/event/footy-weekends/2023-07-22/
LOCATION:Beach Bar\, 12 Cable Beach Road\, Cable Beach\, WA\, 6726
ATTACH;FMTTYPE=image/jpeg:https://diverstavern.com.au/wp-content/uploads/2023/05/AFL_footy-weekends.jpg
END:VEVENT
BEGIN:VEVENT
DTSTART;TZID=Australia/Perth:20230716T080000
DTEND;TZID=Australia/Perth:20230716T170000
DTSTAMP:20260425T112205
CREATED:20230504T033900Z
LAST-MODIFIED:20230524T051321Z
UID:10000652-1689494400-1689526800@diverstavern.com.au
SUMMARY:Footy Weekends
DESCRIPTION:Beach Bar is open 12-late every Saturday & Sunday\, with food served 12-8:30 pm and sports Live on the Big Screens ahead of the entertainment. \nWith new TVs up in the bar\, catch AFL & NRL while playing a game of pool & joining the whole crew in Beach Bar! \nYou asked\, we listened\, pop down to enjoy the awesome weather!
URL:https://diverstavern.com.au/event/footy-weekends/2023-07-16/
LOCATION:Beach Bar\, 12 Cable Beach Road\, Cable Beach\, WA\, 6726
ATTACH;FMTTYPE=image/jpeg:https://diverstavern.com.au/wp-content/uploads/2023/05/AFL_footy-weekends.jpg
END:VEVENT
BEGIN:VEVENT
DTSTART;TZID=Australia/Perth:20230715T080000
DTEND;TZID=Australia/Perth:20230715T170000
DTSTAMP:20260425T112205
CREATED:20230504T033900Z
LAST-MODIFIED:20230524T051321Z
UID:10000651-1689408000-1689440400@diverstavern.com.au
SUMMARY:Footy Weekends
DESCRIPTION:Beach Bar is open 12-late every Saturday & Sunday\, with food served 12-8:30 pm and sports Live on the Big Screens ahead of the entertainment. \nWith new TVs up in the bar\, catch AFL & NRL while playing a game of pool & joining the whole crew in Beach Bar! \nYou asked\, we listened\, pop down to enjoy the awesome weather!
URL:https://diverstavern.com.au/event/footy-weekends/2023-07-15/
LOCATION:Beach Bar\, 12 Cable Beach Road\, Cable Beach\, WA\, 6726
ATTACH;FMTTYPE=image/jpeg:https://diverstavern.com.au/wp-content/uploads/2023/05/AFL_footy-weekends.jpg
END:VEVENT
BEGIN:VEVENT
DTSTART;TZID=Australia/Perth:20230709T080000
DTEND;TZID=Australia/Perth:20230709T170000
DTSTAMP:20260425T112205
CREATED:20230504T033900Z
LAST-MODIFIED:20230524T051321Z
UID:10000650-1688889600-1688922000@diverstavern.com.au
SUMMARY:Footy Weekends
DESCRIPTION:Beach Bar is open 12-late every Saturday & Sunday\, with food served 12-8:30 pm and sports Live on the Big Screens ahead of the entertainment. \nWith new TVs up in the bar\, catch AFL & NRL while playing a game of pool & joining the whole crew in Beach Bar! \nYou asked\, we listened\, pop down to enjoy the awesome weather!
URL:https://diverstavern.com.au/event/footy-weekends/2023-07-09/
LOCATION:Beach Bar\, 12 Cable Beach Road\, Cable Beach\, WA\, 6726
ATTACH;FMTTYPE=image/jpeg:https://diverstavern.com.au/wp-content/uploads/2023/05/AFL_footy-weekends.jpg
END:VEVENT
BEGIN:VEVENT
DTSTART;TZID=Australia/Perth:20230708T080000
DTEND;TZID=Australia/Perth:20230708T170000
DTSTAMP:20260425T112205
CREATED:20230504T033900Z
LAST-MODIFIED:20230524T051321Z
UID:10000649-1688803200-1688835600@diverstavern.com.au
SUMMARY:Footy Weekends
DESCRIPTION:Beach Bar is open 12-late every Saturday & Sunday\, with food served 12-8:30 pm and sports Live on the Big Screens ahead of the entertainment. \nWith new TVs up in the bar\, catch AFL & NRL while playing a game of pool & joining the whole crew in Beach Bar! \nYou asked\, we listened\, pop down to enjoy the awesome weather!
URL:https://diverstavern.com.au/event/footy-weekends/2023-07-08/
LOCATION:Beach Bar\, 12 Cable Beach Road\, Cable Beach\, WA\, 6726
ATTACH;FMTTYPE=image/jpeg:https://diverstavern.com.au/wp-content/uploads/2023/05/AFL_footy-weekends.jpg
END:VEVENT
BEGIN:VEVENT
DTSTART;TZID=Australia/Perth:20230702T080000
DTEND;TZID=Australia/Perth:20230702T170000
DTSTAMP:20260425T112205
CREATED:20230504T033900Z
LAST-MODIFIED:20230524T051321Z
UID:10000647-1688284800-1688317200@diverstavern.com.au
SUMMARY:Footy Weekends
DESCRIPTION:Beach Bar is open 12-late every Saturday & Sunday\, with food served 12-8:30 pm and sports Live on the Big Screens ahead of the entertainment. \nWith new TVs up in the bar\, catch AFL & NRL while playing a game of pool & joining the whole crew in Beach Bar! \nYou asked\, we listened\, pop down to enjoy the awesome weather!
URL:https://diverstavern.com.au/event/footy-weekends/2023-07-02/
LOCATION:Beach Bar\, 12 Cable Beach Road\, Cable Beach\, WA\, 6726
ATTACH;FMTTYPE=image/jpeg:https://diverstavern.com.au/wp-content/uploads/2023/05/AFL_footy-weekends.jpg
END:VEVENT
BEGIN:VEVENT
DTSTART;TZID=Australia/Perth:20230701T080000
DTEND;TZID=Australia/Perth:20230701T170000
DTSTAMP:20260425T112205
CREATED:20230504T033900Z
LAST-MODIFIED:20230524T051321Z
UID:10000646-1688198400-1688230800@diverstavern.com.au
SUMMARY:Footy Weekends
DESCRIPTION:Beach Bar is open 12-late every Saturday & Sunday\, with food served 12-8:30 pm and sports Live on the Big Screens ahead of the entertainment. \nWith new TVs up in the bar\, catch AFL & NRL while playing a game of pool & joining the whole crew in Beach Bar! \nYou asked\, we listened\, pop down to enjoy the awesome weather!
URL:https://diverstavern.com.au/event/footy-weekends/2023-07-01/
LOCATION:Beach Bar\, 12 Cable Beach Road\, Cable Beach\, WA\, 6726
ATTACH;FMTTYPE=image/jpeg:https://diverstavern.com.au/wp-content/uploads/2023/05/AFL_footy-weekends.jpg
END:VEVENT
BEGIN:VEVENT
DTSTART;TZID=Australia/Perth:20230625T080000
DTEND;TZID=Australia/Perth:20230625T170000
DTSTAMP:20260425T112205
CREATED:20230504T033900Z
LAST-MODIFIED:20230524T051321Z
UID:10000642-1687680000-1687712400@diverstavern.com.au
SUMMARY:Footy Weekends
DESCRIPTION:Beach Bar is open 12-late every Saturday & Sunday\, with food served 12-8:30 pm and sports Live on the Big Screens ahead of the entertainment. \nWith new TVs up in the bar\, catch AFL & NRL while playing a game of pool & joining the whole crew in Beach Bar! \nYou asked\, we listened\, pop down to enjoy the awesome weather!
URL:https://diverstavern.com.au/event/footy-weekends/2023-06-25/
LOCATION:Beach Bar\, 12 Cable Beach Road\, Cable Beach\, WA\, 6726
ATTACH;FMTTYPE=image/jpeg:https://diverstavern.com.au/wp-content/uploads/2023/05/AFL_footy-weekends.jpg
END:VEVENT
BEGIN:VEVENT
DTSTART;TZID=Australia/Perth:20230624T080000
DTEND;TZID=Australia/Perth:20230624T170000
DTSTAMP:20260425T112205
CREATED:20230504T033900Z
LAST-MODIFIED:20230524T051321Z
UID:10000641-1687593600-1687626000@diverstavern.com.au
SUMMARY:Footy Weekends
DESCRIPTION:Beach Bar is open 12-late every Saturday & Sunday\, with food served 12-8:30 pm and sports Live on the Big Screens ahead of the entertainment. \nWith new TVs up in the bar\, catch AFL & NRL while playing a game of pool & joining the whole crew in Beach Bar! \nYou asked\, we listened\, pop down to enjoy the awesome weather!
URL:https://diverstavern.com.au/event/footy-weekends/2023-06-24/
LOCATION:Beach Bar\, 12 Cable Beach Road\, Cable Beach\, WA\, 6726
ATTACH;FMTTYPE=image/jpeg:https://diverstavern.com.au/wp-content/uploads/2023/05/AFL_footy-weekends.jpg
END:VEVENT
BEGIN:VEVENT
DTSTART;TZID=Australia/Perth:20230618T080000
DTEND;TZID=Australia/Perth:20230618T170000
DTSTAMP:20260425T112205
CREATED:20230504T033900Z
LAST-MODIFIED:20230524T051321Z
UID:10000640-1687075200-1687107600@diverstavern.com.au
SUMMARY:Footy Weekends
DESCRIPTION:Beach Bar is open 12-late every Saturday & Sunday\, with food served 12-8:30 pm and sports Live on the Big Screens ahead of the entertainment. \nWith new TVs up in the bar\, catch AFL & NRL while playing a game of pool & joining the whole crew in Beach Bar! \nYou asked\, we listened\, pop down to enjoy the awesome weather!
URL:https://diverstavern.com.au/event/footy-weekends/2023-06-18/
LOCATION:Beach Bar\, 12 Cable Beach Road\, Cable Beach\, WA\, 6726
ATTACH;FMTTYPE=image/jpeg:https://diverstavern.com.au/wp-content/uploads/2023/05/AFL_footy-weekends.jpg
END:VEVENT
BEGIN:VEVENT
DTSTART;TZID=Australia/Perth:20230617T080000
DTEND;TZID=Australia/Perth:20230617T170000
DTSTAMP:20260425T112205
CREATED:20230504T033900Z
LAST-MODIFIED:20230524T051321Z
UID:10000639-1686988800-1687021200@diverstavern.com.au
SUMMARY:Footy Weekends
DESCRIPTION:Beach Bar is open 12-late every Saturday & Sunday\, with food served 12-8:30 pm and sports Live on the Big Screens ahead of the entertainment. \nWith new TVs up in the bar\, catch AFL & NRL while playing a game of pool & joining the whole crew in Beach Bar! \nYou asked\, we listened\, pop down to enjoy the awesome weather!
URL:https://diverstavern.com.au/event/footy-weekends/2023-06-17/
LOCATION:Beach Bar\, 12 Cable Beach Road\, Cable Beach\, WA\, 6726
ATTACH;FMTTYPE=image/jpeg:https://diverstavern.com.au/wp-content/uploads/2023/05/AFL_footy-weekends.jpg
END:VEVENT
BEGIN:VEVENT
DTSTART;TZID=Australia/Perth:20230611T080000
DTEND;TZID=Australia/Perth:20230611T170000
DTSTAMP:20260425T112205
CREATED:20230504T033900Z
LAST-MODIFIED:20230524T051321Z
UID:10000637-1686470400-1686502800@diverstavern.com.au
SUMMARY:Footy Weekends
DESCRIPTION:Beach Bar is open 12-late every Saturday & Sunday\, with food served 12-8:30 pm and sports Live on the Big Screens ahead of the entertainment. \nWith new TVs up in the bar\, catch AFL & NRL while playing a game of pool & joining the whole crew in Beach Bar! \nYou asked\, we listened\, pop down to enjoy the awesome weather!
URL:https://diverstavern.com.au/event/footy-weekends/2023-06-11/
LOCATION:Beach Bar\, 12 Cable Beach Road\, Cable Beach\, WA\, 6726
ATTACH;FMTTYPE=image/jpeg:https://diverstavern.com.au/wp-content/uploads/2023/05/AFL_footy-weekends.jpg
END:VEVENT
BEGIN:VEVENT
DTSTART;TZID=Australia/Perth:20230610T080000
DTEND;TZID=Australia/Perth:20230610T170000
DTSTAMP:20260425T112205
CREATED:20230504T033900Z
LAST-MODIFIED:20230524T051321Z
UID:10000636-1686384000-1686416400@diverstavern.com.au
SUMMARY:Footy Weekends
DESCRIPTION:Beach Bar is open 12-late every Saturday & Sunday\, with food served 12-8:30 pm and sports Live on the Big Screens ahead of the entertainment. \nWith new TVs up in the bar\, catch AFL & NRL while playing a game of pool & joining the whole crew in Beach Bar! \nYou asked\, we listened\, pop down to enjoy the awesome weather!
URL:https://diverstavern.com.au/event/footy-weekends/2023-06-10/
LOCATION:Beach Bar\, 12 Cable Beach Road\, Cable Beach\, WA\, 6726
ATTACH;FMTTYPE=image/jpeg:https://diverstavern.com.au/wp-content/uploads/2023/05/AFL_footy-weekends.jpg
END:VEVENT
BEGIN:VEVENT
DTSTART;TZID=Australia/Perth:20230604T080000
DTEND;TZID=Australia/Perth:20230604T170000
DTSTAMP:20260425T112205
CREATED:20230504T033900Z
LAST-MODIFIED:20230524T051321Z
UID:10000634-1685865600-1685898000@diverstavern.com.au
SUMMARY:Footy Weekends
DESCRIPTION:Beach Bar is open 12-late every Saturday & Sunday\, with food served 12-8:30 pm and sports Live on the Big Screens ahead of the entertainment. \nWith new TVs up in the bar\, catch AFL & NRL while playing a game of pool & joining the whole crew in Beach Bar! \nYou asked\, we listened\, pop down to enjoy the awesome weather!
URL:https://diverstavern.com.au/event/footy-weekends/2023-06-04/
LOCATION:Beach Bar\, 12 Cable Beach Road\, Cable Beach\, WA\, 6726
ATTACH;FMTTYPE=image/jpeg:https://diverstavern.com.au/wp-content/uploads/2023/05/AFL_footy-weekends.jpg
END:VEVENT
BEGIN:VEVENT
DTSTART;TZID=Australia/Perth:20230603T080000
DTEND;TZID=Australia/Perth:20230603T170000
DTSTAMP:20260425T112205
CREATED:20230504T033900Z
LAST-MODIFIED:20230524T051321Z
UID:10000633-1685779200-1685811600@diverstavern.com.au
SUMMARY:Footy Weekends
DESCRIPTION:Beach Bar is open 12-late every Saturday & Sunday\, with food served 12-8:30 pm and sports Live on the Big Screens ahead of the entertainment. \nWith new TVs up in the bar\, catch AFL & NRL while playing a game of pool & joining the whole crew in Beach Bar! \nYou asked\, we listened\, pop down to enjoy the awesome weather!
URL:https://diverstavern.com.au/event/footy-weekends/2023-06-03/
LOCATION:Beach Bar\, 12 Cable Beach Road\, Cable Beach\, WA\, 6726
ATTACH;FMTTYPE=image/jpeg:https://diverstavern.com.au/wp-content/uploads/2023/05/AFL_footy-weekends.jpg
END:VEVENT
BEGIN:VEVENT
DTSTART;TZID=Australia/Perth:20230602T200000
DTEND;TZID=Australia/Perth:20230602T233000
DTSTAMP:20260425T112205
CREATED:20230514T224859Z
LAST-MODIFIED:20230514T224859Z
UID:10000631-1685736000-1685748600@diverstavern.com.au
SUMMARY:Rockin Chair - June 2nd
DESCRIPTION:Catch this band for some truly classic pub rock and a great selection of songs you’ll know and love!   \nTalented musicians Matt\, Mick and Damo are sure to delight from 8pm-Late in Beach Bar.   \nFood is served all day 12-9 pm and open late!
URL:https://diverstavern.com.au/event/rockin-chair-june-2nd/
LOCATION:Beach Bar\, 12 Cable Beach Road\, Cable Beach\, WA\, 6726
END:VEVENT
BEGIN:VEVENT
DTSTART;TZID=Australia/Perth:20230528T120000
DTEND;TZID=Australia/Perth:20230528T233000
DTSTAMP:20260425T112205
CREATED:20230504T033900Z
LAST-MODIFIED:20230524T051321Z
UID:10000622-1685275200-1685316600@diverstavern.com.au
SUMMARY:Footy Weekends
DESCRIPTION:Beach Bar is open 12-late every Saturday & Sunday\, with food served 12-8:30 pm and sports Live on the Big Screens ahead of the entertainment. \nWith new TVs up in the bar\, catch AFL & NRL while playing a game of pool & joining the whole crew in Beach Bar! \nYou asked\, we listened\, pop down to enjoy the awesome weather!
URL:https://diverstavern.com.au/event/footy-weekends/2023-05-28/
LOCATION:Beach Bar\, 12 Cable Beach Road\, Cable Beach\, WA\, 6726
ATTACH;FMTTYPE=image/jpeg:https://diverstavern.com.au/wp-content/uploads/2023/05/AFL_footy-weekends.jpg
END:VEVENT
BEGIN:VEVENT
DTSTART;TZID=Australia/Perth:20230527T120000
DTEND;TZID=Australia/Perth:20230527T233000
DTSTAMP:20260425T112205
CREATED:20230504T033900Z
LAST-MODIFIED:20230524T051321Z
UID:10000621-1685188800-1685230200@diverstavern.com.au
SUMMARY:Footy Weekends
DESCRIPTION:Beach Bar is open 12-late every Saturday & Sunday\, with food served 12-8:30 pm and sports Live on the Big Screens ahead of the entertainment. \nWith new TVs up in the bar\, catch AFL & NRL while playing a game of pool & joining the whole crew in Beach Bar! \nYou asked\, we listened\, pop down to enjoy the awesome weather!
URL:https://diverstavern.com.au/event/footy-weekends/2023-05-27/
LOCATION:Beach Bar\, 12 Cable Beach Road\, Cable Beach\, WA\, 6726
ATTACH;FMTTYPE=image/jpeg:https://diverstavern.com.au/wp-content/uploads/2023/05/AFL_footy-weekends.jpg
END:VEVENT
BEGIN:VEVENT
DTSTART;TZID=Australia/Perth:20230526T200000
DTEND;TZID=Australia/Perth:20230526T233000
DTSTAMP:20260425T112205
CREATED:20230504T055245Z
LAST-MODIFIED:20230504T055636Z
UID:10000620-1685131200-1685143800@diverstavern.com.au
SUMMARY:Live Music-19th and 26th May
DESCRIPTION:Like and follow the Divers Tavern Facebook page to see specials\, events\, sports information and more!   \nThere’s sure to be plenty afoot this weekend so start it right at Divers Tavern!
URL:https://diverstavern.com.au/event/live-music-19thand-26th-may/2023-05-26/
LOCATION:Beach Bar\, 12 Cable Beach Road\, Cable Beach\, WA\, 6726
ATTACH;FMTTYPE=image/jpeg:https://diverstavern.com.au/wp-content/uploads/2022/12/Divers-Tavern-General-sm.jpg
END:VEVENT
BEGIN:VEVENT
DTSTART;TZID=Australia/Perth:20230521T120000
DTEND;TZID=Australia/Perth:20230521T233000
DTSTAMP:20260425T112205
CREATED:20230504T033900Z
LAST-MODIFIED:20230524T051321Z
UID:10000619-1684670400-1684711800@diverstavern.com.au
SUMMARY:Footy Weekends
DESCRIPTION:Beach Bar is open 12-late every Saturday & Sunday\, with food served 12-8:30 pm and sports Live on the Big Screens ahead of the entertainment. \nWith new TVs up in the bar\, catch AFL & NRL while playing a game of pool & joining the whole crew in Beach Bar! \nYou asked\, we listened\, pop down to enjoy the awesome weather!
URL:https://diverstavern.com.au/event/footy-weekends/2023-05-21/
LOCATION:Beach Bar\, 12 Cable Beach Road\, Cable Beach\, WA\, 6726
ATTACH;FMTTYPE=image/jpeg:https://diverstavern.com.au/wp-content/uploads/2023/05/AFL_footy-weekends.jpg
END:VEVENT
BEGIN:VEVENT
DTSTART;TZID=Australia/Perth:20230520T120000
DTEND;TZID=Australia/Perth:20230520T233000
DTSTAMP:20260425T112205
CREATED:20230504T033900Z
LAST-MODIFIED:20230524T051321Z
UID:10000618-1684584000-1684625400@diverstavern.com.au
SUMMARY:Footy Weekends
DESCRIPTION:Beach Bar is open 12-late every Saturday & Sunday\, with food served 12-8:30 pm and sports Live on the Big Screens ahead of the entertainment. \nWith new TVs up in the bar\, catch AFL & NRL while playing a game of pool & joining the whole crew in Beach Bar! \nYou asked\, we listened\, pop down to enjoy the awesome weather!
URL:https://diverstavern.com.au/event/footy-weekends/2023-05-20/
LOCATION:Beach Bar\, 12 Cable Beach Road\, Cable Beach\, WA\, 6726
ATTACH;FMTTYPE=image/jpeg:https://diverstavern.com.au/wp-content/uploads/2023/05/AFL_footy-weekends.jpg
END:VEVENT
BEGIN:VEVENT
DTSTART;TZID=Australia/Perth:20230519T200000
DTEND;TZID=Australia/Perth:20230519T233000
DTSTAMP:20260425T112205
CREATED:20230514T222135Z
LAST-MODIFIED:20230514T222135Z
UID:10000623-1684526400-1684539000@diverstavern.com.au
SUMMARY:Mick & Matty Duo - 19th May
DESCRIPTION:Two members of the well-known 42 Decibel take to the stage in a rare performance\, not to be missed. \nMatt brings country\, rock\, blues & soul to the stage in an energetic performance alongside the musical talents and smooth vocals of Mick. \nLike and follow the Divers Tavern Facebook page to see specials\, events\, sports information and more!  There’s sure to be plenty afoot this weekend so start it right at Divers Tavern!
URL:https://diverstavern.com.au/event/mick-matty-duo-may-19/
LOCATION:Beach Bar\, 12 Cable Beach Road\, Cable Beach\, WA\, 6726
ATTACH;FMTTYPE=image/jpeg:https://diverstavern.com.au/wp-content/uploads/2022/12/generic-photo-events.jpg
END:VEVENT
END:VCALENDAR