BEGIN:VCALENDAR
VERSION:2.0
PRODID:-//Divers Tavern - ECPv6.15.20//NONSGML v1.0//EN
CALSCALE:GREGORIAN
METHOD:PUBLISH
X-ORIGINAL-URL:https://diverstavern.com.au
X-WR-CALDESC:Events for Divers Tavern
REFRESH-INTERVAL;VALUE=DURATION:PT1H
X-Robots-Tag:noindex
X-PUBLISHED-TTL:PT1H
BEGIN:VTIMEZONE
TZID:Australia/Perth
BEGIN:STANDARD
TZOFFSETFROM:+0800
TZOFFSETTO:+0800
TZNAME:AWST
DTSTART:20250101T000000
END:STANDARD
END:VTIMEZONE
BEGIN:VEVENT
DTSTART;TZID=Australia/Perth:20260425T203000
DTEND;TZID=Australia/Perth:20260425T233000
DTSTAMP:20260425T062331
CREATED:20260401T074941Z
LAST-MODIFIED:20260401T074941Z
UID:10003504-1777149000-1777159800@diverstavern.com.au
SUMMARY:Detour-April 25th
DESCRIPTION:[vc_row css_animation=”” row_type=”row” use_row_as_full_screen_section=”no” type=”full_width” angled_section=”no” text_align=”left” background_image_as_pattern=”without_pattern”][vc_column][vc_column_text css=””] \nLive Music\nDETOUR IS BACK 🔥\nYou knew it as Wanderland last year… and now it’s back\, reloaded as DETOUR — bigger\, louder and ready to go OFF at the White Claw Beach Bar ⚡️🌀\nA full send night of Drum & Bass with that raw bush doof energy under the Broome sky 🌴🔊 Heavy drops\, rolling beats\, DJs all night and one massive dancefloor that won’t quit.\nIf you were there last year\, you already know how wild it got… and this year we’re taking it up another level 💥 \nRound up the crew\, get down early and prepare to lose yourself in it. \nWhite Claw Beach Bar | Divers Tavern\nThis is not just a party… it’s a movement. \n#Detour #Wanderland #DrumAndBass #DnB #BushDoof #BroomeNights #DiversTavern #WhiteClawBeachBar #DoofVibes #PartyAllNight #BroomeEvents\nFor upcoming events give us a like & follow on Facebook .. https://www.facebook.com/Diverstavern[/vc_column_text][/vc_column][/vc_row]
URL:https://diverstavern.com.au/event/detour-april-25th/
LOCATION:Divers Bar\, 12 Cable Beach Road\, Broome\, 6725
ATTACH;FMTTYPE=image/jpeg:https://diverstavern.com.au/wp-content/uploads/2024/08/White-Claw-Party.jpg
END:VEVENT
BEGIN:VEVENT
DTSTART;TZID=Australia/Perth:20260426T120000
DTEND;TZID=Australia/Perth:20260426T170000
DTSTAMP:20260425T062331
CREATED:20260401T075101Z
LAST-MODIFIED:20260401T075107Z
UID:10003505-1777204800-1777222800@diverstavern.com.au
SUMMARY:Sunday Funday ft Spin the Wheel-April 26th
DESCRIPTION:[vc_row css_animation=”” row_type=”row” use_row_as_full_screen_section=”no” type=”full_width” angled_section=”no” text_align=”left” background_image_as_pattern=”without_pattern”][vc_column][vc_column_text css=””]Join us Sunday Funday from 11am! ☀️🎉 Enjoy Irish Spice Bags all day for only $25! 🇮🇪🔥 Buy the Deal of the Day to Spin the Wheel 🎡 for awesome prizes from 12–5pm! Just ask the bartender about what’s on! 🍻 \nFeeling competitive? Test your skills in our pool competition from 4pm! 🎱🏆 Get down early to sign up! Cash pot for 1st\, with awesome 2nd & 3rd place prizes. 🥇🥈🥉 \nWe’ve got a special treat for you — $10 Cocktail Menu 🍹 + great beer prices 🍺 to keep you refreshed! Topping it off\, it’s all moved into the beautifully air-conditioned main bar ❄️ for the wet season — the crew will be down to enjoy & we invite you to enjoy it with us all! 🙌 \nJoin us this Sunday and make your day unforgettable! ✨\nTag your friends and spread the word! 📣\nSee you at Sunday Funday! 😎🍻 \nFor upcoming events\, head to www.diverstavern.com.au or give us a like & follow \n#SundayFunday #SundayVibes #PoolCompetition\nFor upcoming events give us a like & follow on Facebook .. https://www.facebook.com/Diverstavern[/vc_column_text][/vc_column][/vc_row]
URL:https://diverstavern.com.au/event/sunday-funday-ft-spin-the-wheel-april-26th/
LOCATION:Divers Bar\, 12 Cable Beach Road\, Broome\, 6725
ATTACH;FMTTYPE=image/jpeg:https://diverstavern.com.au/wp-content/uploads/2024/08/White-Claw-Party.jpg
END:VEVENT
END:VCALENDAR