BEGIN:VCALENDAR
VERSION:2.0
PRODID:-//Divers Tavern - ECPv6.15.20//NONSGML v1.0//EN
CALSCALE:GREGORIAN
METHOD:PUBLISH
X-ORIGINAL-URL:https://diverstavern.com.au
X-WR-CALDESC:Events for Divers Tavern
REFRESH-INTERVAL;VALUE=DURATION:PT1H
X-Robots-Tag:noindex
X-PUBLISHED-TTL:PT1H
BEGIN:VTIMEZONE
TZID:Australia/Perth
BEGIN:STANDARD
TZOFFSETFROM:+0800
TZOFFSETTO:+0800
TZNAME:AWST
DTSTART:20220101T000000
END:STANDARD
END:VTIMEZONE
BEGIN:VEVENT
DTSTART;TZID=Australia/Perth:20250321T200000
DTEND;TZID=Australia/Perth:20250321T233000
DTSTAMP:20260425T044109
CREATED:20250119T033039Z
LAST-MODIFIED:20250220T115205Z
UID:10003012-1742587200-1742599800@diverstavern.com.au
SUMMARY:James Browne-March 21st
DESCRIPTION:Live Music\nIt’s one of the last Throwback nights with James Browne in the main bar 8pm-late.  \nThis DJ is known for packing the dancefloor with music you can’t resist! He’s got some big parties planned as he gears up for an exciting dry season.  \nCheck out the music you love in the Sports Bar this weekend after Hundred Helmets 3-6.30pm & a spot of dinner. \nWe’ll be keeping the party going in the Tavern over the wet season so keep up to date on what’s on by giving us a like & follow or heading to Facebook .. https://www.facebook.com/Diverstavern
URL:https://diverstavern.com.au/event/james-browne-march-21st/
LOCATION:Divers Sports Bar
ATTACH;FMTTYPE=image/jpeg:https://diverstavern.com.au/wp-content/uploads/2025/01/Throwbacks_James-Browne-21st-March.jpg
END:VEVENT
BEGIN:VEVENT
DTSTART;TZID=Australia/Perth:20250308T200000
DTEND;TZID=Australia/Perth:20250308T233000
DTSTAMP:20260425T044109
CREATED:20250119T032348Z
LAST-MODIFIED:20250119T032348Z
UID:10003007-1741464000-1741476600@diverstavern.com.au
SUMMARY:Double Mac and Cheese-March 8th
DESCRIPTION:Live Music\nFather\, son duo take to the stage from 8pm with covers you’ll know and love from 8pm-late. Check out our daily special while catching all your favourite sports live on the big screens all day.  \nWe’ll be keeping the party going in the Tavern over the wet season so keep up to date on what’s on by giving us a like & follow or heading to Facebook .. https://www.facebook.com/Diverstavern
URL:https://diverstavern.com.au/event/double-mac-and-cheese-march-8th-2/
LOCATION:Divers Sports Bar
ATTACH;FMTTYPE=image/jpeg:https://diverstavern.com.au/wp-content/uploads/2024/08/White-Claw-Party.jpg
END:VEVENT
BEGIN:VEVENT
DTSTART;TZID=Australia/Perth:20250307T200000
DTEND;TZID=Australia/Perth:20250307T233000
DTSTAMP:20260425T044109
CREATED:20250119T041954Z
LAST-MODIFIED:20250130T082247Z
UID:10003022-1741377600-1741390200@diverstavern.com.au
SUMMARY:House of Techno ft  Seon-March 7th
DESCRIPTION:After an awesome night of Disco last week S E O N brings you House of Techno to keep the wet season going hard! \nHead down to check it out from 8pm-late with big tables to fit the whole crew & a nice escape from the heat! \nWe’ll be keeping the party going in the Tavern over the wet season so keep up to date on what’s on by giving us a like & follow or heading to Facebook .. https://www.facebook.com/Diverstavern
URL:https://diverstavern.com.au/event/house-of-techno-ft-seon-march-7th/
LOCATION:Divers Sports Bar
ATTACH;FMTTYPE=image/jpeg:https://diverstavern.com.au/wp-content/uploads/2024/08/White-Claw-Party.jpg
END:VEVENT
BEGIN:VEVENT
DTSTART;TZID=Australia/Perth:20250301T200000
DTEND;TZID=Australia/Perth:20250301T233000
DTSTAMP:20260425T044109
CREATED:20250119T031755Z
LAST-MODIFIED:20250119T040959Z
UID:10003005-1740859200-1740871800@diverstavern.com.au
SUMMARY:Pascoe & Cooke-March 1st
DESCRIPTION:Live Music\nIf you haven’t caught this bantering duo\, you haven’t really done Broome! Long time Broomies with a performing repertoire spanning the decades\, expect the unexpected & songs you’ll love! Performing live from 8pm-late\, it’s always a great night with Pascoe & Cooke at the Tavern!  \nWe’ll be keeping the party going in the Tavern over the wet season so keep up to date on what’s on by giving us a like & follow or heading to Facebook .. https://www.facebook.com/Diverstavern
URL:https://diverstavern.com.au/event/pascoe-cooke-march-1st/
LOCATION:Divers Sports Bar
ATTACH;FMTTYPE=image/jpeg:https://diverstavern.com.au/wp-content/uploads/2024/08/White-Claw-Party.jpg
END:VEVENT
BEGIN:VEVENT
DTSTART;TZID=Australia/Perth:20250228T200000
DTEND;TZID=Australia/Perth:20250228T233000
DTSTAMP:20260425T044109
CREATED:20250119T065004Z
LAST-MODIFIED:20250130T081817Z
UID:10003028-1740772800-1740785400@diverstavern.com.au
SUMMARY:Vintage Vibes ft Seon-February 28th
DESCRIPTION:It’s the final theme party of the month and it’s time to turn it up with S E O N bringing you Vintage Vibes from 8pm-late! \nPop on down to check out the old school tracks in S E O N ’s fresh signature style. \nHundred Helmets is on 3-6.30pm with over $5000 up for grabs\, dinner starts at 5pm\, then stay for the music. \nFriday’s sorted at Divers Tavern! Check out upcoming events on Facebook .. https://www.facebook.com/Diverstavern
URL:https://diverstavern.com.au/event/vintage-vibes-ft-seon-february-28th/
LOCATION:Divers Sports Bar
ATTACH;FMTTYPE=image/jpeg:https://diverstavern.com.au/wp-content/uploads/2025/01/Vintage-Vibes.jpg
END:VEVENT
BEGIN:VEVENT
DTSTART;TZID=Australia/Perth:20250223T153000
DTEND;TZID=Australia/Perth:20250223T233000
DTSTAMP:20260425T044109
CREATED:20250201T090514Z
LAST-MODIFIED:20250201T090514Z
UID:10003031-1740324600-1740353400@diverstavern.com.au
SUMMARY:BSHS Nannup Warm-Up-February 23rd
DESCRIPTION:Broome Senior High School students are heading down South to the Nannup Music Festival at the end of February\, performing all original music at one of WA’s premier music events! \nThese year 11 and 12 students have been rehearsing ferociously and are proud to present a special “Nannup Warm-up” show at Divers Tavern on Sunday 23rd February\, from 3.30pm. \nEntry to the event is by donation at the door with awesome raffles going throughout! \nThis fantastic opportunity would not have been possible without the kind and generous support of the following Broome organisations and businesses: \nKimberley Ports Authority\, Shinju Matsuri\, Davina D’Anna MLA\, Variety Club WA\, Broome Shire\, The Billi Resort\, Kimberley Arts Network\, Broome Golf Club and Divers Tavern. \nCome down to support these awesome kids as they take off to represent Broome and the true talent that develops here!  \nCheck out upcoming events on Facebook .. https://www.facebook.com/Diverstavern
URL:https://diverstavern.com.au/event/bshs-nannup-warm-up-february-23rd/
LOCATION:Divers Sports Bar
END:VEVENT
BEGIN:VEVENT
DTSTART;TZID=Australia/Perth:20250222T200000
DTEND;TZID=Australia/Perth:20250222T233000
DTSTAMP:20260425T044109
CREATED:20250119T064625Z
LAST-MODIFIED:20250130T081939Z
UID:10003026-1740254400-1740267000@diverstavern.com.au
SUMMARY:Bassline Beats ft Seon-February 22nd
DESCRIPTION:It’s party number 3 and this week we’re going all out for Bassline Beats! \nHit the dancefloor & get down and dirty in a bassline frenzy! \nKeep the party going all wet season in the ice-cold air-con of Divers Tavern! \nStay up to date on what’s on by giving us a like & follow or heading to Facebook .. https://www.facebook.com/Diverstavern
URL:https://diverstavern.com.au/event/bassline-beats-ft-seon-february-22nd/
LOCATION:Divers Sports Bar
END:VEVENT
BEGIN:VEVENT
DTSTART;TZID=Australia/Perth:20250215T200000
DTEND;TZID=Australia/Perth:20250215T233000
DTSTAMP:20260425T044109
CREATED:20250119T042102Z
LAST-MODIFIED:20250201T063846Z
UID:10003023-1739649600-1739662200@diverstavern.com.au
SUMMARY:James Browne-February 15th
DESCRIPTION:Live Music\nHe’s here for a DJ double header weekend and ready to show why he’s known as the king of throwbacks!  \nCatch JB from 8pm until the party stops\, so grab the crew and get ready for a killer night on the dancefloor while you escape the  heat.  \nWe’ll be keeping the party going in the Tavern over the wet season so keep up to date on what’s on by giving us a like & follow or heading to Facebook .. https://www.facebook.com/Diverstavern
URL:https://diverstavern.com.au/event/james-browne-february-15th/
LOCATION:Divers Sports Bar
END:VEVENT
BEGIN:VEVENT
DTSTART;TZID=Australia/Perth:20250214T200000
DTEND;TZID=Australia/Perth:20250214T233000
DTSTAMP:20260425T044109
CREATED:20250130T082525Z
LAST-MODIFIED:20250201T063348Z
UID:10003030-1739563200-1739575800@diverstavern.com.au
SUMMARY:Love Bites ft  Seon-February 14th
DESCRIPTION:Love bites\, but the bass hits harder!  \nJoin SEON with your most loved crew for a night of DnB this Valentine’s Friday!  \nMake it what you want it to be and drop to the beat from 8pm! For upcoming events\, check out https://www.facebook.com/Diverstavern
URL:https://diverstavern.com.au/event/love-bites-ft-seon-february-14th/
LOCATION:Divers Sports Bar
END:VEVENT
BEGIN:VEVENT
DTSTART;TZID=Australia/Perth:20250208T200000
DTEND;TZID=Australia/Perth:20250208T233000
DTSTAMP:20260425T044109
CREATED:20250119T041540Z
LAST-MODIFIED:20250126T075010Z
UID:10003020-1739044800-1739057400@diverstavern.com.au
SUMMARY:Disco Dreaming ft Seon-February 8th
DESCRIPTION:Irish origins & Broomie at heart\, S E O N comes ready to deliver! He’s got a few parties planned for the weeks ahead\, kicking it off with a night of disco and funk! Expect groovy beats from 8pm-late. \nWe’ll be keeping the party going in the Tavern over the wet season so keep up to date on what’s on by giving us a like & follow or heading to Facebook .. https://www.facebook.com/Diverstavern
URL:https://diverstavern.com.au/event/disco-dreaming-ft-seon-february-8th/
LOCATION:Divers Sports Bar
ATTACH;FMTTYPE=image/jpeg:https://diverstavern.com.au/wp-content/uploads/2025/01/Disco-Dreaming-8th-Feb.jpg
END:VEVENT
BEGIN:VEVENT
DTSTART;TZID=Australia/Perth:20250201T200000
DTEND;TZID=Australia/Perth:20250201T233000
DTSTAMP:20260425T044109
CREATED:20241229T025952Z
LAST-MODIFIED:20250126T075646Z
UID:10003004-1738440000-1738452600@diverstavern.com.au
SUMMARY:James Browne-February 1st
DESCRIPTION:Live Music\nThe King of Throwbacks hits the decks from 8pm-late this Friday night & always gets the dancers to the floor! \nCheck out Hundred Helmets from 3-6.30pm\, grab a bite to eat & stay for a night of banging beats! \nWe’ll be keeping the party going in the Tavern over the wet season so keep up to date on what’s on by giving us a like & follow or heading to Facebook .. https://www.facebook.com/Diverstavern
URL:https://diverstavern.com.au/event/james-browne-february-1st/
LOCATION:Divers Sports Bar
ATTACH;FMTTYPE=image/jpeg:https://diverstavern.com.au/wp-content/uploads/2024/12/Whats-On-31st-Jan.jpg
END:VEVENT
BEGIN:VEVENT
DTSTART;TZID=Australia/Perth:20250131T200000
DTEND;TZID=Australia/Perth:20250131T233000
DTSTAMP:20260425T044109
CREATED:20241229T025831Z
LAST-MODIFIED:20250126T075318Z
UID:10003003-1738353600-1738366200@diverstavern.com.au
SUMMARY:Pascoe & Cooke-January 31st
DESCRIPTION:Live Music\nWhat a January it has been! See it out on the dancefloor tonight from 8pm\, with Pascoe & Cooke rocking to the music\, tempting everyone with a bloody good time! \nWe’ll be keeping the party going in the Tavern over the wet season so keep up to date on what’s on by giving us a like & follow or heading to Facebook .. https://www.facebook.com/Diverstavern
URL:https://diverstavern.com.au/event/pascoe-cooke-january-31st/
LOCATION:Divers Sports Bar
ATTACH;FMTTYPE=image/jpeg:https://diverstavern.com.au/wp-content/uploads/2024/12/Whats-On-31st-Jan.jpg
END:VEVENT
BEGIN:VEVENT
DTSTART;TZID=Australia/Perth:20250125T200000
DTEND;TZID=Australia/Perth:20250125T233000
DTSTAMP:20260425T044109
CREATED:20241229T025550Z
LAST-MODIFIED:20250104T001233Z
UID:10003002-1737835200-1737847800@diverstavern.com.au
SUMMARY:Pascoe & Cooke-January 25th
DESCRIPTION:Live Music\nIf you don’t know them\, you are missing out! This dynamic duo have been playing together for years\, know how to bring the tunes & love a bit of banter while they do it. \nThis is the authentic Broome Live Music night that will have your toes tapping & your booty shaking. \nLive\, from 8pm-late after Hundred Helmets 3-6.30pm. \nWe’ll be keeping the party going in the Tavern over the wet season so keep up to date on what’s on by giving us a like & follow or heading to Facebook .. https://www.facebook.com/Diverstavern
URL:https://diverstavern.com.au/event/pascoe-cooke-january-25th/
LOCATION:Divers Sports Bar
ATTACH;FMTTYPE=image/jpeg:https://diverstavern.com.au/wp-content/uploads/2024/12/PASCOE-COOKE-25.01.jpg
END:VEVENT
BEGIN:VEVENT
DTSTART;TZID=Australia/Perth:20250124T200000
DTEND;TZID=Australia/Perth:20250124T233000
DTSTAMP:20260425T044109
CREATED:20241229T025032Z
LAST-MODIFIED:20250104T001250Z
UID:10003000-1737748800-1737761400@diverstavern.com.au
SUMMARY:Seon-January 24th
DESCRIPTION:Live Music\nSEON has been away for Chrissy but is back and ready to go this Saturday night from 8pm-late. \nExpect a variety of genres with a good sprinkling of drum and bass! \nHead down for dinner\, grab a table for the crew and settle in for a killer night! \nWe’ll be keeping the party going in the Tavern over the wet season so keep up to date on what’s on by giving us a like & follow or heading to Facebook .. https://www.facebook.com/Diverstavern
URL:https://diverstavern.com.au/event/seon-january-24th/
LOCATION:Divers Sports Bar
END:VEVENT
BEGIN:VEVENT
DTSTART;TZID=Australia/Perth:20250118T200000
DTEND;TZID=Australia/Perth:20250118T233000
DTSTAMP:20260425T044109
CREATED:20241229T025146Z
LAST-MODIFIED:20250104T001256Z
UID:10003001-1737230400-1737243000@diverstavern.com.au
SUMMARY:James Browne-January 18th
DESCRIPTION:Live Music\nJAMES BROWNE is on the decks this Saturday as the Throwback King brings his A-game to deliver a packed out dancefloor 8pm-Late! \nHead down to enjoy sports on the big screens\, a game of pool & a bite to eat\, with live entertainment every weekend! \nWe’ll be keeping the party going in the Tavern over the wet season so keep up to date on what’s on by giving us a like & follow or heading to Facebook .. https://www.facebook.com/Diverstavern
URL:https://diverstavern.com.au/event/james-browne-january-18th/
LOCATION:Divers Sports Bar
ATTACH;FMTTYPE=image/jpeg:https://diverstavern.com.au/wp-content/uploads/2024/08/White-Claw-Party.jpg
END:VEVENT
BEGIN:VEVENT
DTSTART;TZID=Australia/Perth:20250117T200000
DTEND;TZID=Australia/Perth:20250117T233000
DTSTAMP:20260425T044109
CREATED:20241229T024925Z
LAST-MODIFIED:20250104T001308Z
UID:10002999-1737144000-1737156600@diverstavern.com.au
SUMMARY:Seon-January 17th
DESCRIPTION:Live Music\nSEON has been away for Chrissy but is back and ready to go this Saturday night from 8pm-late. \nExpect a variety of genres with a good sprinkling of drum and bass! \nHead down for dinner\, grab a table for the crew and settle in for a killer night! \nWe’ll be keeping the party going in the Tavern over the wet season so keep up to date on what’s on by giving us a like & follow or heading to Facebook .. https://www.facebook.com/Diverstavern
URL:https://diverstavern.com.au/event/seon-january-17th/
LOCATION:Divers Sports Bar
END:VEVENT
BEGIN:VEVENT
DTSTART;TZID=Australia/Perth:20250111T200000
DTEND;TZID=Australia/Perth:20250111T233000
DTSTAMP:20260425T044109
CREATED:20241229T024730Z
LAST-MODIFIED:20250104T001315Z
UID:10002998-1736625600-1736638200@diverstavern.com.au
SUMMARY:Seon-January 11th
DESCRIPTION:Live Music\nSEON has been away for Chrissy but is back and ready to go this Saturday night from 8pm-late. \nExpect a variety of genres with a good sprinkling of drum and bass! \nHead down for dinner\, grab a table for the crew and settle in for a killer night! \nWe’ll be keeping the party going in the Tavern over the wet season so keep up to date on what’s on by giving us a like & follow or heading to Facebook .. https://www.facebook.com/Diverstavern
URL:https://diverstavern.com.au/event/seon-january-11th/
LOCATION:Divers Sports Bar
ATTACH;FMTTYPE=image/jpeg:https://diverstavern.com.au/wp-content/uploads/2024/12/DT-Whats-On-10th-Jan.jpg
END:VEVENT
BEGIN:VEVENT
DTSTART;TZID=Australia/Perth:20250110T200000
DTEND;TZID=Australia/Perth:20250110T233000
DTSTAMP:20260425T044109
CREATED:20241229T024527Z
LAST-MODIFIED:20250104T001325Z
UID:10002997-1736539200-1736551800@diverstavern.com.au
SUMMARY:The Drive Bys-January 10th
DESCRIPTION:Live Music\nJoin Leanna & Frankie Shoveller for amazing vocals & great covers from 8pm-late. \nPop down early for your chance at the Hundred Helmets Jackpot 3-6.30pm\, grab dinner from 5pm & enjoy Sports on the Big Screens in the chill of the A/C. \nWe’ll be keeping the party going in the Tavern over the wet season so keep up to date on what’s on by giving us a like & follow or heading to Facebook .. https://www.facebook.com/Diverstavern
URL:https://diverstavern.com.au/event/the-drive-bys-january-10th/
LOCATION:Divers Sports Bar
ATTACH;FMTTYPE=image/jpeg:https://diverstavern.com.au/wp-content/uploads/2024/12/DT-Whats-On-10th-Jan.jpg
END:VEVENT
BEGIN:VEVENT
DTSTART;TZID=Australia/Perth:20250104T200000
DTEND;TZID=Australia/Perth:20250104T233000
DTSTAMP:20260425T044109
CREATED:20241229T024149Z
LAST-MODIFIED:20250104T001335Z
UID:10002996-1736020800-1736033400@diverstavern.com.au
SUMMARY:James Browne-January 4th
DESCRIPTION:Live Music\nJAMES BROWNE is on the decks this Saturday as the Throwback King brings his A-game to deliver a packed out dancefloor 8pm-Late! \nHead down to enjoy sports on the big screens\, a game of pool & a bite to eat\, with live entertainment every weekend! \nWe’ll be keeping the party going in the Tavern over the wet season so keep up to date on what’s on by giving us a like & follow or heading to Facebook .. https://www.facebook.com/Diverstavern
URL:https://diverstavern.com.au/event/james-browne-january-4th/
LOCATION:Divers Sports Bar
ATTACH;FMTTYPE=image/jpeg:https://diverstavern.com.au/wp-content/uploads/2024/08/White-Claw-Party.jpg
END:VEVENT
BEGIN:VEVENT
DTSTART;TZID=Australia/Perth:20240323T200000
DTEND;TZID=Australia/Perth:20240323T233000
DTSTAMP:20260425T044109
CREATED:20240319T011130Z
LAST-MODIFIED:20240319T011130Z
UID:10000690-1711224000-1711236600@diverstavern.com.au
SUMMARY:Weekends at Divers Tavern
DESCRIPTION:Catch all your favourite sports Live & Loud on the Big Screens and enjoy food from the Bistro 11:30am-8pm Sunday-Thursday & until 8:30pm Friday & Saturday. \nWith great cocktails\, awesome wine & beer specials and Live Entertainment every Friday\, Saturday night 8pm-Late\, it’s the perfect place to relax and unwind with the crew!
URL:https://diverstavern.com.au/event/weekends-at-divers-tavern-3/
LOCATION:Divers Sports Bar
ATTACH;FMTTYPE=image/jpeg:https://diverstavern.com.au/wp-content/uploads/2022/12/Divers-Tavern-General-sm.jpg
END:VEVENT
BEGIN:VEVENT
DTSTART;TZID=Australia/Perth:20231209T200000
DTEND;TZID=Australia/Perth:20231209T233000
DTSTAMP:20260425T044109
CREATED:20240311T093156Z
LAST-MODIFIED:20240311T093323Z
UID:10000691-1702152000-1702164600@diverstavern.com.au
SUMMARY:Weekends at Divers Tavern
DESCRIPTION:Catch all your favourite sports Live & Loud on the Big Screens and enjoy food from the Bistro 11:30am-8pm Sunday-Thursday & until 8:30pm Friday & Saturday. \nWith great cocktails\, awesome wine & beer specials and Live Entertainment every Friday\, Saturday night 8pm-Late\, it’s the perfect place to relax and unwind with the crew!
URL:https://diverstavern.com.au/event/weekends-at-divers-tavern-2/2023-12-09/
LOCATION:Divers Sports Bar
ATTACH;FMTTYPE=image/jpeg:https://diverstavern.com.au/wp-content/uploads/2022/12/Divers-Tavern-General-sm.jpg
END:VEVENT
BEGIN:VEVENT
DTSTART;TZID=Australia/Perth:20231125T200000
DTEND;TZID=Australia/Perth:20231125T233000
DTSTAMP:20260425T044109
CREATED:20230824T062230Z
LAST-MODIFIED:20240311T093048Z
UID:10000689-1700942400-1700955000@diverstavern.com.au
SUMMARY:Weekends at Divers Tavern
DESCRIPTION:Catch all your favourite sports Live & Loud on the Big Screens and enjoy food from the Bistro 11:30am-8pm Sunday-Thursday & until 8:30pm Friday & Saturday. \nWith great cocktails\, awesome wine & beer specials and Live Entertainment every Friday\, Saturday night 8pm-Late\, it’s the perfect place to relax and unwind with the crew!
URL:https://diverstavern.com.au/event/weekends-at-divers-tavern/2023-11-25/
LOCATION:Divers Sports Bar
ATTACH;FMTTYPE=image/jpeg:https://diverstavern.com.au/wp-content/uploads/2022/12/Divers-Tavern-General-sm.jpg
END:VEVENT
BEGIN:VEVENT
DTSTART;TZID=Australia/Perth:20231118T200000
DTEND;TZID=Australia/Perth:20231118T233000
DTSTAMP:20260425T044109
CREATED:20230824T062230Z
LAST-MODIFIED:20240311T093048Z
UID:10000688-1700337600-1700350200@diverstavern.com.au
SUMMARY:Weekends at Divers Tavern
DESCRIPTION:Catch all your favourite sports Live & Loud on the Big Screens and enjoy food from the Bistro 11:30am-8pm Sunday-Thursday & until 8:30pm Friday & Saturday. \nWith great cocktails\, awesome wine & beer specials and Live Entertainment every Friday\, Saturday night 8pm-Late\, it’s the perfect place to relax and unwind with the crew!
URL:https://diverstavern.com.au/event/weekends-at-divers-tavern/2023-11-18/
LOCATION:Divers Sports Bar
ATTACH;FMTTYPE=image/jpeg:https://diverstavern.com.au/wp-content/uploads/2022/12/Divers-Tavern-General-sm.jpg
END:VEVENT
BEGIN:VEVENT
DTSTART;TZID=Australia/Perth:20231111T200000
DTEND;TZID=Australia/Perth:20231111T233000
DTSTAMP:20260425T044109
CREATED:20230824T062230Z
LAST-MODIFIED:20240311T093048Z
UID:10000687-1699732800-1699745400@diverstavern.com.au
SUMMARY:Weekends at Divers Tavern
DESCRIPTION:Catch all your favourite sports Live & Loud on the Big Screens and enjoy food from the Bistro 11:30am-8pm Sunday-Thursday & until 8:30pm Friday & Saturday. \nWith great cocktails\, awesome wine & beer specials and Live Entertainment every Friday\, Saturday night 8pm-Late\, it’s the perfect place to relax and unwind with the crew!
URL:https://diverstavern.com.au/event/weekends-at-divers-tavern/2023-11-11/
LOCATION:Divers Sports Bar
ATTACH;FMTTYPE=image/jpeg:https://diverstavern.com.au/wp-content/uploads/2022/12/Divers-Tavern-General-sm.jpg
END:VEVENT
BEGIN:VEVENT
DTSTART;TZID=Australia/Perth:20231104T200000
DTEND;TZID=Australia/Perth:20231104T233000
DTSTAMP:20260425T044109
CREATED:20230824T062230Z
LAST-MODIFIED:20240311T093048Z
UID:10000686-1699128000-1699140600@diverstavern.com.au
SUMMARY:Weekends at Divers Tavern
DESCRIPTION:Catch all your favourite sports Live & Loud on the Big Screens and enjoy food from the Bistro 11:30am-8pm Sunday-Thursday & until 8:30pm Friday & Saturday. \nWith great cocktails\, awesome wine & beer specials and Live Entertainment every Friday\, Saturday night 8pm-Late\, it’s the perfect place to relax and unwind with the crew!
URL:https://diverstavern.com.au/event/weekends-at-divers-tavern/2023-11-04/
LOCATION:Divers Sports Bar
ATTACH;FMTTYPE=image/jpeg:https://diverstavern.com.au/wp-content/uploads/2022/12/Divers-Tavern-General-sm.jpg
END:VEVENT
BEGIN:VEVENT
DTSTART;TZID=Australia/Perth:20231028T200000
DTEND;TZID=Australia/Perth:20231028T233000
DTSTAMP:20260425T044109
CREATED:20230824T062230Z
LAST-MODIFIED:20240311T093048Z
UID:10000685-1698523200-1698535800@diverstavern.com.au
SUMMARY:Weekends at Divers Tavern
DESCRIPTION:Catch all your favourite sports Live & Loud on the Big Screens and enjoy food from the Bistro 11:30am-8pm Sunday-Thursday & until 8:30pm Friday & Saturday. \nWith great cocktails\, awesome wine & beer specials and Live Entertainment every Friday\, Saturday night 8pm-Late\, it’s the perfect place to relax and unwind with the crew!
URL:https://diverstavern.com.au/event/weekends-at-divers-tavern/2023-10-28/
LOCATION:Divers Sports Bar
ATTACH;FMTTYPE=image/jpeg:https://diverstavern.com.au/wp-content/uploads/2022/12/Divers-Tavern-General-sm.jpg
END:VEVENT
BEGIN:VEVENT
DTSTART;TZID=Australia/Perth:20231021T200000
DTEND;TZID=Australia/Perth:20231021T233000
DTSTAMP:20260425T044109
CREATED:20230824T062230Z
LAST-MODIFIED:20240311T093048Z
UID:10000684-1697918400-1697931000@diverstavern.com.au
SUMMARY:Weekends at Divers Tavern
DESCRIPTION:Catch all your favourite sports Live & Loud on the Big Screens and enjoy food from the Bistro 11:30am-8pm Sunday-Thursday & until 8:30pm Friday & Saturday. \nWith great cocktails\, awesome wine & beer specials and Live Entertainment every Friday\, Saturday night 8pm-Late\, it’s the perfect place to relax and unwind with the crew!
URL:https://diverstavern.com.au/event/weekends-at-divers-tavern/2023-10-21/
LOCATION:Divers Sports Bar
ATTACH;FMTTYPE=image/jpeg:https://diverstavern.com.au/wp-content/uploads/2022/12/Divers-Tavern-General-sm.jpg
END:VEVENT
BEGIN:VEVENT
DTSTART;TZID=Australia/Perth:20231014T200000
DTEND;TZID=Australia/Perth:20231014T233000
DTSTAMP:20260425T044109
CREATED:20230824T062230Z
LAST-MODIFIED:20240311T093048Z
UID:10000683-1697313600-1697326200@diverstavern.com.au
SUMMARY:Weekends at Divers Tavern
DESCRIPTION:Catch all your favourite sports Live & Loud on the Big Screens and enjoy food from the Bistro 11:30am-8pm Sunday-Thursday & until 8:30pm Friday & Saturday. \nWith great cocktails\, awesome wine & beer specials and Live Entertainment every Friday\, Saturday night 8pm-Late\, it’s the perfect place to relax and unwind with the crew!
URL:https://diverstavern.com.au/event/weekends-at-divers-tavern/2023-10-14/
LOCATION:Divers Sports Bar
ATTACH;FMTTYPE=image/jpeg:https://diverstavern.com.au/wp-content/uploads/2022/12/Divers-Tavern-General-sm.jpg
END:VEVENT
BEGIN:VEVENT
DTSTART;TZID=Australia/Perth:20231007T200000
DTEND;TZID=Australia/Perth:20231007T233000
DTSTAMP:20260425T044109
CREATED:20230824T062230Z
LAST-MODIFIED:20240311T093048Z
UID:10000682-1696708800-1696721400@diverstavern.com.au
SUMMARY:Weekends at Divers Tavern
DESCRIPTION:Catch all your favourite sports Live & Loud on the Big Screens and enjoy food from the Bistro 11:30am-8pm Sunday-Thursday & until 8:30pm Friday & Saturday. \nWith great cocktails\, awesome wine & beer specials and Live Entertainment every Friday\, Saturday night 8pm-Late\, it’s the perfect place to relax and unwind with the crew!
URL:https://diverstavern.com.au/event/weekends-at-divers-tavern/2023-10-07/
LOCATION:Divers Sports Bar
ATTACH;FMTTYPE=image/jpeg:https://diverstavern.com.au/wp-content/uploads/2022/12/Divers-Tavern-General-sm.jpg
END:VEVENT
BEGIN:VEVENT
DTSTART;TZID=Australia/Perth:20230930T200000
DTEND;TZID=Australia/Perth:20230930T233000
DTSTAMP:20260425T044109
CREATED:20230824T062230Z
LAST-MODIFIED:20240311T093048Z
UID:10000681-1696104000-1696116600@diverstavern.com.au
SUMMARY:Weekends at Divers Tavern
DESCRIPTION:Catch all your favourite sports Live & Loud on the Big Screens and enjoy food from the Bistro 11:30am-8pm Sunday-Thursday & until 8:30pm Friday & Saturday. \nWith great cocktails\, awesome wine & beer specials and Live Entertainment every Friday\, Saturday night 8pm-Late\, it’s the perfect place to relax and unwind with the crew!
URL:https://diverstavern.com.au/event/weekends-at-divers-tavern/2023-09-30/
LOCATION:Divers Sports Bar
ATTACH;FMTTYPE=image/jpeg:https://diverstavern.com.au/wp-content/uploads/2022/12/Divers-Tavern-General-sm.jpg
END:VEVENT
END:VCALENDAR